BEGIN:VCALENDAR
VERSION:2.0
PRODID:-//The Bar Chords - ECPv6.15.20//NONSGML v1.0//EN
CALSCALE:GREGORIAN
METHOD:PUBLISH
X-ORIGINAL-URL:https://barchordsband.com
X-WR-CALDESC:Events for The Bar Chords
REFRESH-INTERVAL;VALUE=DURATION:PT1H
X-Robots-Tag:noindex
X-PUBLISHED-TTL:PT1H
BEGIN:VTIMEZONE
TZID:UTC
BEGIN:STANDARD
TZOFFSETFROM:+0000
TZOFFSETTO:+0000
TZNAME:UTC
DTSTART:20230101T000000
END:STANDARD
END:VTIMEZONE
BEGIN:VTIMEZONE
TZID:America/New_York
BEGIN:DAYLIGHT
TZOFFSETFROM:-0500
TZOFFSETTO:-0400
TZNAME:EDT
DTSTART:20230312T070000
END:DAYLIGHT
BEGIN:STANDARD
TZOFFSETFROM:-0400
TZOFFSETTO:-0500
TZNAME:EST
DTSTART:20231105T060000
END:STANDARD
BEGIN:DAYLIGHT
TZOFFSETFROM:-0500
TZOFFSETTO:-0400
TZNAME:EDT
DTSTART:20240310T070000
END:DAYLIGHT
BEGIN:STANDARD
TZOFFSETFROM:-0400
TZOFFSETTO:-0500
TZNAME:EST
DTSTART:20241103T060000
END:STANDARD
BEGIN:DAYLIGHT
TZOFFSETFROM:-0500
TZOFFSETTO:-0400
TZNAME:EDT
DTSTART:20250309T070000
END:DAYLIGHT
BEGIN:STANDARD
TZOFFSETFROM:-0400
TZOFFSETTO:-0500
TZNAME:EST
DTSTART:20251102T060000
END:STANDARD
END:VTIMEZONE
BEGIN:VEVENT
DTSTART;TZID=UTC:20260411T190000
DTEND;TZID=UTC:20260411T230000
DTSTAMP:20260425T174532
CREATED:20260304T161035Z
LAST-MODIFIED:20260313T032138Z
UID:809-1775934000-1775948400@barchordsband.com
SUMMARY:Live @ Tyngsboro American Legion
DESCRIPTION:
URL:https://barchordsband.com/event/live-tyngsboro-american-legion/
LOCATION:Tyngsboro American Logion Post 247\, 90 Pawtucket Blvd\,\, Tyngsborough\, Massachusetts
END:VEVENT
BEGIN:VEVENT
DTSTART;TZID=UTC:20260410T190000
DTEND;TZID=UTC:20260410T220000
DTSTAMP:20260425T174532
CREATED:20260304T160615Z
LAST-MODIFIED:20260304T160643Z
UID:802-1775847600-1775858400@barchordsband.com
SUMMARY:Live@Haverhill Amvets
DESCRIPTION:Party with The Bar Chords! Playing pop and rock music from the 60’s through today
URL:https://barchordsband.com/event/livehaverhill-amvets/
LOCATION:Haverhill Amvets\, 576 Primrose St.\, Haverhill\, 01830
END:VEVENT
BEGIN:VEVENT
DTSTART;TZID=UTC:20260314T190000
DTEND;TZID=UTC:20260314T220000
DTSTAMP:20260425T174532
CREATED:20251108T171243Z
LAST-MODIFIED:20260313T031138Z
UID:787-1773514800-1773525600@barchordsband.com
SUMMARY:Live@ Amigos Mexican Kitchen and Tequila Bar - Peabody MA
DESCRIPTION:
URL:https://barchordsband.com/event/live-amigos-mexican-kitchen-and-tequila-bar-peabody-ma/
LOCATION:Amigo’s Mexican Kitchen\, 210 Andover St\, Peabody\, Massachusetts\, 01960\, United States
END:VEVENT
BEGIN:VEVENT
DTSTART;TZID=UTC:20260206T190000
DTEND;TZID=UTC:20260206T230000
DTSTAMP:20260425T174532
CREATED:20251108T170722Z
LAST-MODIFIED:20251108T170724Z
UID:783-1770404400-1770418800@barchordsband.com
SUMMARY:Live@ Tyngsborough American Legion Post 247 - Tyngsborough MA
DESCRIPTION:Public (over 21) welcome. no cover
URL:https://barchordsband.com/event/live-tyngsborough-american-legion-post-247-tyngsborough-ma/
LOCATION:Tyngsboro American Logion Post 247\, 90 Pawtucket Blvd\,\, Tyngsborough\, Massachusetts
END:VEVENT
BEGIN:VEVENT
DTSTART;TZID=UTC:20260131T190000
DTEND;TZID=UTC:20260131T230000
DTSTAMP:20260425T174532
CREATED:20251108T165905Z
LAST-MODIFIED:20251108T170001Z
UID:780-1769886000-1769900400@barchordsband.com
SUMMARY:Live @ Seabrook American Legion - Seabrook NH
DESCRIPTION:Public (over 21) welcome. No Cover
URL:https://barchordsband.com/event/live-seabrook-post-70/
LOCATION:Seabrook NH American Legion\, 169 Walton Road\, Seabrook\, New Hampshire\, United States
END:VEVENT
BEGIN:VEVENT
DTSTART;TZID=UTC:20260123T193000
DTEND;TZID=UTC:20260123T230000
DTSTAMP:20260425T174532
CREATED:20250613T185250Z
LAST-MODIFIED:20250613T190713Z
UID:755-1769196600-1769209200@barchordsband.com
SUMMARY:Live@ Sweeney American Legion Post #2 - Manchester NH
DESCRIPTION:
URL:https://barchordsband.com/event/live-sweeney-american-legion-post-2/
LOCATION:Sweeney American Legion Post #2\, 251 Maple Street\, Manchester\, New Hampshire\, 03103
END:VEVENT
BEGIN:VEVENT
DTSTART;TZID=UTC:20251129T190000
DTEND;TZID=UTC:20251129T230000
DTSTAMP:20260425T174532
CREATED:20241206T143838Z
LAST-MODIFIED:20241206T143840Z
UID:710-1764442800-1764457200@barchordsband.com
SUMMARY:Live @ Seabrook American Legion - Seabrook\, NH
DESCRIPTION:
URL:https://barchordsband.com/event/live-seabrook-american-legion-seabrook-nh-3/
LOCATION:Seabrook NH American Legion\, 169 Walton Road\, Seabrook\, New Hampshire\, United States
END:VEVENT
BEGIN:VEVENT
DTSTART;TZID=UTC:20251114T210000
DTEND;TZID=UTC:20251115T000000
DTSTAMP:20260425T174532
CREATED:20251111T125034Z
LAST-MODIFIED:20251113T022910Z
UID:793-1763154000-1763164800@barchordsband.com
SUMMARY:Live@ T.J. Callahan's - Tewksbury MA
DESCRIPTION:No Cover
URL:https://barchordsband.com/event/live-t-j-callahans-tewksbury-ma/
LOCATION:TJ Callahan’s Pub\, 1475 Main St.\, Tewksbury\, Massachusetts\, 01876
END:VEVENT
BEGIN:VEVENT
DTSTART;TZID=UTC:20250913T200000
DTEND;TZID=UTC:20250913T230000
DTSTAMP:20260425T174532
CREATED:20250613T184559Z
LAST-MODIFIED:20250613T190838Z
UID:751-1757793600-1757804400@barchordsband.com
SUMMARY:Live@ Casey Magee's - Nashua NH
DESCRIPTION:
URL:https://barchordsband.com/event/live-casey-magees/
LOCATION:Casey Magee’s\, 8 Temple Street\, Nashua\, New Hampshire\, 03060
END:VEVENT
BEGIN:VEVENT
DTSTART;TZID=UTC:20250726T190000
DTEND;TZID=UTC:20250726T230000
DTSTAMP:20260425T174532
CREATED:20241206T143225Z
LAST-MODIFIED:20241206T143227Z
UID:707-1753556400-1753570800@barchordsband.com
SUMMARY:Live @ Seabrook American Legion - Seabrook NH
DESCRIPTION:
URL:https://barchordsband.com/event/live-seabrook-american-legion-seabrook-nh-2/
LOCATION:Seabrook NH American Legion\, 169 Walton Road\, Seabrook\, New Hampshire\, United States
END:VEVENT
BEGIN:VEVENT
DTSTART;TZID=UTC:20250621T190000
DTEND;TZID=UTC:20250621T220000
DTSTAMP:20260425T174532
CREATED:20241206T142420Z
LAST-MODIFIED:20241209T155308Z
UID:702-1750532400-1750543200@barchordsband.com
SUMMARY:Private Party - Greenfield\, NH
DESCRIPTION:
URL:https://barchordsband.com/event/adams-garden-party-greenfield-nh/
END:VEVENT
BEGIN:VEVENT
DTSTART;TZID=UTC:20250503T190000
DTEND;TZID=UTC:20250503T230000
DTSTAMP:20260425T174532
CREATED:20241206T141843Z
LAST-MODIFIED:20241206T142029Z
UID:700-1746298800-1746313200@barchordsband.com
SUMMARY:Live @ Seabrook American Legion
DESCRIPTION:
URL:https://barchordsband.com/event/live-seabrook-american-legion/
LOCATION:Seabrook NH American Legion\, 169 Walton Road\, Seabrook\, New Hampshire\, United States
END:VEVENT
BEGIN:VEVENT
DTSTART;TZID=UTC:20250426T200000
DTEND;TZID=UTC:20250426T230000
DTSTAMP:20260425T174532
CREATED:20241206T141637Z
LAST-MODIFIED:20241206T141639Z
UID:698-1745697600-1745708400@barchordsband.com
SUMMARY:Live @ Rumors Sports Bar - Newmarket NH
DESCRIPTION:
URL:https://barchordsband.com/event/live-rumors-sports-bar-newmarket-nh/
LOCATION:Rumors\, 22 N Main St\, Newmarket\, NH\, 03857\, United States
END:VEVENT
BEGIN:VEVENT
DTSTART;TZID=UTC:20250412T190000
DTEND;TZID=UTC:20250412T220000
DTSTAMP:20260425T174532
CREATED:20250401T142511Z
LAST-MODIFIED:20260313T030950Z
UID:747-1744484400-1744495200@barchordsband.com
SUMMARY:Live @ Amigo’s Mexican Kitchen
DESCRIPTION:
URL:https://barchordsband.com/event/live-amigos-mexican-kitchen/
LOCATION:Amigo’s Mexican Kitchen\, 210 Andover St\, Peabody\, Massachusetts\, 01960\, United States
END:VEVENT
BEGIN:VEVENT
DTSTART;TZID=UTC:20250405T180000
DTEND;TZID=UTC:20250405T210000
DTSTAMP:20260425T174532
CREATED:20250325T122604Z
LAST-MODIFIED:20250325T122911Z
UID:743-1743876000-1743886800@barchordsband.com
SUMMARY:Live @ the 77 Sports Bar - Nashua NH
DESCRIPTION:
URL:https://barchordsband.com/event/live-the-77-sports-bar/
LOCATION:77 sports bar\, 138 Main St\, Nashua\,\, New Hampshire\, 03060\, United States
END:VEVENT
BEGIN:VEVENT
DTSTART;TZID=UTC:20250322T190000
DTEND;TZID=UTC:20250322T220000
DTSTAMP:20260425T174532
CREATED:20241206T141143Z
LAST-MODIFIED:20241206T141144Z
UID:696-1742670000-1742680800@barchordsband.com
SUMMARY:Live @ Haverhill American Legion
DESCRIPTION:
URL:https://barchordsband.com/event/live-haverhill-american-legion/
END:VEVENT
BEGIN:VEVENT
DTSTART;TZID=UTC:20250315T190000
DTEND;TZID=UTC:20250315T193000
DTSTAMP:20260425T174532
CREATED:20241206T140410Z
LAST-MODIFIED:20241206T140411Z
UID:692-1742065200-1742067000@barchordsband.com
SUMMARY:Live @ Wilton American Legion - Wilton NH
DESCRIPTION:
URL:https://barchordsband.com/event/live-wilton-american-legion-wilton-nh/
LOCATION:Wilton American Legion\, 24 Maple St.\, Wilton\,\, NH\, 03086\, United States
END:VEVENT
BEGIN:VEVENT
DTSTART;TZID=UTC:20250301T200000
DTEND;TZID=UTC:20250301T230000
DTSTAMP:20260425T174532
CREATED:20241206T135331Z
LAST-MODIFIED:20241206T135333Z
UID:690-1740859200-1740870000@barchordsband.com
SUMMARY:Live @ Rumors Sports Bar
DESCRIPTION:
URL:https://barchordsband.com/event/live-rumors-sports-bar-2/
LOCATION:Rumors\, 22 N Main St\, Newmarket\, NH\, 03857\, United States
END:VEVENT
BEGIN:VEVENT
DTSTART;TZID=UTC:20250201T190000
DTEND;TZID=UTC:20250201T230000
DTSTAMP:20260425T174532
CREATED:20241206T134920Z
LAST-MODIFIED:20241206T134922Z
UID:688-1738436400-1738450800@barchordsband.com
SUMMARY:Live @ Seabrook American Legion - Seabrook NH
DESCRIPTION:
URL:https://barchordsband.com/event/live-seabrook-american-legion-seabrook-nh/
LOCATION:Seabrook NH American Legion\, 169 Walton Road\, Seabrook\, New Hampshire\, United States
END:VEVENT
BEGIN:VEVENT
DTSTART;TZID=UTC:20250125T190000
DTEND;TZID=UTC:20250125T223000
DTSTAMP:20260425T174532
CREATED:20241206T134631Z
LAST-MODIFIED:20241206T134632Z
UID:686-1737831600-1737844200@barchordsband.com
SUMMARY:Live @ Haverhill American Legion - Haverhill\, MA
DESCRIPTION:
URL:https://barchordsband.com/event/live-haverhill-american-legion-haverhill-ma/
END:VEVENT
BEGIN:VEVENT
DTSTART;TZID=UTC:20250118T200000
DTEND;TZID=UTC:20250118T230000
DTSTAMP:20260425T174532
CREATED:20241206T133630Z
LAST-MODIFIED:20241206T135702Z
UID:680-1737230400-1737241200@barchordsband.com
SUMMARY:Live @ Rumors Sports Bar - Newmarket NH
DESCRIPTION:The Bar Chords are at it again! Come and dance to Rock and pop music from the 60’s through today.
URL:https://barchordsband.com/event/live-rumors-sports-bar/
LOCATION:Rumors\, 22 N Main St\, Newmarket\, NH\, 03857\, United States
END:VEVENT
BEGIN:VEVENT
DTSTART;TZID=America/New_York:20241207T190000
DTEND;TZID=America/New_York:20241207T220000
DTSTAMP:20260425T174532
CREATED:20241203T141511Z
LAST-MODIFIED:20241203T155643Z
UID:621-1733598000-1733608800@barchordsband.com
SUMMARY:Live @ the 77 Sports Bar - Nashua NH
DESCRIPTION:Grab your friends and come on out to 77 Sports Bar and Lounge in Nashua this weekend to enjoy good drinks and live music!
URL:https://barchordsband.com/event/live-the-77-sports-bar-nashua-nh/
LOCATION:77 sports bar\, 138 Main St\, Nashua\,\, New Hampshire\, 03060\, United States
END:VEVENT
BEGIN:VEVENT
DTSTART;TZID=UTC:20240629T200000
DTEND;TZID=UTC:20240630T000000
DTSTAMP:20260425T174532
CREATED:20240609T214513Z
LAST-MODIFIED:20240609T214515Z
UID:553-1719691200-1719705600@barchordsband.com
SUMMARY:Live @ the Beverly Franco-American Club
DESCRIPTION:44 Park St.  Beverly\, MA
URL:https://barchordsband.com/event/live-the-beverly-franco-american-club/
LOCATION:Beverly Franco-American Club\, 44 Park St. \, MA\, Beverly\, Massachusetts
END:VEVENT
BEGIN:VEVENT
DTSTART;TZID=UTC:20240622T190000
DTEND;TZID=UTC:20240622T230000
DTSTAMP:20260425T174532
CREATED:20240226T211128Z
LAST-MODIFIED:20240226T211129Z
UID:482-1719082800-1719097200@barchordsband.com
SUMMARY:Live @ the Seabrook American Legion
DESCRIPTION:
URL:https://barchordsband.com/event/live-the-seabrook-american-legion/
LOCATION:Seabrook NH American Legion\, 169 Walton Road\, Seabrook\, New Hampshire\, United States
END:VEVENT
BEGIN:VEVENT
DTSTART;TZID=UTC:20240622T120000
DTEND;TZID=UTC:20240622T160000
DTSTAMP:20260425T174532
CREATED:20240609T221250Z
LAST-MODIFIED:20240609T221252Z
UID:559-1719057600-1719072000@barchordsband.com
SUMMARY:Live @ Thunder Road Specialty Auto Shop
DESCRIPTION:Car Show and Block Party – Come see classic cars and listen to Classic rock and pop music
URL:https://barchordsband.com/event/live-thunder-road-specialty-auto-shop/
LOCATION:Thunder Road Specialty Auto Shop\, 26A Colombia Circle\,\, Merrimack\,\, New Hampshire
END:VEVENT
BEGIN:VEVENT
DTSTART;TZID=UTC:20240316T190000
DTEND;TZID=UTC:20240316T230000
DTSTAMP:20260425T174532
CREATED:20240226T190708Z
LAST-MODIFIED:20240226T204715Z
UID:442-1710615600-1710630000@barchordsband.com
SUMMARY:Live @ the Seabrook American Legion
DESCRIPTION:Live Rock\, Pop\, and Country music for 21 and over
URL:https://barchordsband.com/event/live-the-seabrook-american-legion-2/
LOCATION:Seabrook NH American Legion\, 169 Walton Road\, Seabrook\, New Hampshire\, United States
END:VEVENT
BEGIN:VEVENT
DTSTART;TZID=UTC:20240217T200000
DTEND;TZID=UTC:20240217T230000
DTSTAMP:20260425T174532
CREATED:20240125T225729Z
LAST-MODIFIED:20240125T225731Z
UID:383-1708200000-1708210800@barchordsband.com
SUMMARY:Live @ Elie's Smoking Lounge
DESCRIPTION:
URL:https://barchordsband.com/event/live-elies-smoking-lounge/
LOCATION:Elie’s Smoking Lounge\, Nashua\, New Hampshire
END:VEVENT
BEGIN:VEVENT
DTSTART;TZID=UTC:20240127T200000
DTEND;TZID=UTC:20240128T000000
DTSTAMP:20260425T174532
CREATED:20240125T183809Z
LAST-MODIFIED:20240125T183809Z
UID:330-1706385600-1706400000@barchordsband.com
SUMMARY:Live at the Beverly Franco-American Club
DESCRIPTION:Come meet Alex\, our newest member\, and dance the night away to your favorite tunes… We’ve got a few new ones too. Great Bartenders\, cold drinks and the friendliest club in Beverly! Non-members welcome\, just sign in as a guest of the band.
URL:https://barchordsband.com/event/live-at-the-beverly-franco-american-club/
LOCATION:Franco-American Club\, 44 Park St.\, Beverly\, MA\, United States
END:VEVENT
END:VCALENDAR